<PRE>
BEGIN:VCALENDARs
VERSION:2.0
PRODID:https://badrappenau.de/stadtleben/veranstaltungen/2026-04-benefizkonzert-mit-leintal-brass-in-fuerfeld-8740
METHOD:PUBLISH
BEGIN:VEVENT
UID:
ORGANIZER;CN="":MAILTO:
LOCATION: Evang. Kirche Fürfeld
SUMMARY:Benefizkonzert mit Leintal Brass in Fürfeld
DESCRIPTION:<p>Leintal Brass gibt ein Benefizkonzert in Fürfeld in der Evangelischen Kirche. Auf dem Programm des Blechbläserensembles stehen Stücke der Romantik bis hin zu modernen Stücken zeitgenössischer Komponisten und eigenen Arrangements.</p>
<p>Das Ensemble interpretiert auf ihre unverwechselbare Art Titel aus Klassik, Rock, Pop, Gospel und Filmmusiken. Ein breites und interessantes Klangspektrum ergibt sich durch die Klänge der hohen Piccolo Trompete bis zur tiefen Tuba und vom weichen Flügelhorn bis zum strahlenden Trompetenklang. Mit ihrer Stimmenvielfalt und der Leidenschaft zur Musik verstehen es die Musiker ihre Zuhörer auf eine außergewöhnliche musikalische Reise mitzunehmen.</p>
<p>Der Eintritt ist frei.</p>
<p>Die Spenden kommen der Aufbaugilde Heilbronn-Franken e.V. für das Projekt ErfrierungsschutzPLUS zugute.</p>
<p>Weitere Infos finden Sie unter <a href="https://www.leintal-brass.de" target="_blank" rel="noopener" title="Link zur Homepage von Leintal-Brass">www.leintal-brass.de</a></p>
<p>&nbsp;</p>
<p><strong>Die Spenden kommen der Aufbaugilde Heilbronn-Franken e.V. für das Projekt ErfrierungsschutzPLUS zugute.</strong></p>
<p>Nachstehend einige Infos über das Projekt:</p>
<p>Spendenprojekt - ErfrierungsschutzPLUS für obdachlose Menschen in der kalten Jahreszeit</p>
<p>Der ErfrierungsschutzPLUS der Aufbaugilde ist ein Angebot für Menschen, die aufgrund ihres jahrelangen Lebens auf der Straße in ihrem Sozialverhalten und ihrem seelischen Zustand so stark eingeschränkt sind, dass sie klassische Obdachlosenheime, mit der Nähe zu vielen anderen Menschen, nicht aufsuchen können. Eher riskieren sie den Erfrierungstod.</p>
<p>Unser ErfrierungsschutzPLUS basiert vor allem auf ehrenamtlicher Hilfe und ist das einzige Angebot dieser Art im Einzugsbereich der Stadt Heilbronn. Ehrenamtliche Mitarbeiter betreuen alle Nächte von November bis März in Zweier-Teams. Sie sorgen für die Einhaltung der Hausordnung und der Nachtruhe und stehen in Notfallsituationen als Ansprechpartner zur Verfügung.</p>
<p>Wohnungslose Menschen können im ErfrierungsschutzPLUS nicht nur kostenfrei übernachten, sondern haben dazu die Möglichkeit, sich in der Tagesstätte Gildetreff tagsüber aufzuhalten. Hier in unserem Unterstützungszentrum uwi26 (Wilhelmstraße 26) können sie ganzjährig kostenlos frühstücken und duschen, bekommen warme Kleidung, können ihre Wäsche waschen und erhalten auch ärztliche Hilfe für Mensch und Tier.</p>
<p>Das Angebot ErfrierungsschutzPLUS ist kein Ersatz für die bestehenden kommunalen Obdachlosenunterkünfte. Es soll diejenigen erreichen, die die kommunalen Angebote nicht nutzen. Gäste im ErfrierungsschutzPLUS sind vor allem Menschen, die auf dem Wohnungsmarkt ausgegrenzt sind und betreute Wohnmöglichkeiten und Obdachlosenunterkünfte nicht in Anspruch nehmen, weil sie oft Angst vor gewalttätigen Übergriffen haben und auch keine Tiere als Begleiter mitbringen dürfen.</p>
<p>Der ErfrierungsschutzPLUS bietet täglich 16 Übernachtungsplätze für Männer und Frauen an, auch mit Hund. Über die Wintermonate (November bis März) ist die Übernachtungsmöglichkeit im Erfrierungsschutz täglich von 20.00 Uhr bis 8.00 Uhr geöffnet – inklusive der Weihnachtsfeiertage und Silvester.</p>
<p>(Quelle: <a href="https://www.aufbaugilde.de">https://www.aufbaugilde.de</a>)</p>   link:  https://badrappenau.de/stadtleben/veranstaltungen/2026-04-benefizkonzert-mit-leintal-brass-in-fuerfeld-8740
CLASS:PUBLIC
DTSTART:2026-04-24T19:00:00+0000
DTEND:2026-04-24T20:00:00+0000
DTSTAMP:2026-04-24T12:58:27+0000
END:VEVENT
END:VCALENDAR
</PRE>
