<PRE>
BEGIN:VCALENDARs
VERSION:2.0
PRODID:https://badrappenau.de/stadtleben/veranstaltungen/2026-04-gemeinderatssitzung-8491
METHOD:PUBLISH
BEGIN:VEVENT
UID:
ORGANIZER;CN="":MAILTO:
LOCATION: Rathaus Bad Rappenau, Ratssaal
SUMMARY:Gemeinderatssitzung
DESCRIPTION:<p>TAGESORDNUNG</p>
<p>1. Mitteilungen und Verschiedenes <br /><br />2. Anfragen der Bürger <br /><br />3. Bekanntgabe von Beschlüssen aus nicht öffentlichen Sitzungen des Gemeinderates und der beschließenden Ausschüsse <br /><br />4. Bericht über die Entwicklung der Evangelischen Sozialstation Bad Rappenau - Bad Wimpfen e.V. <br /><br />5. Kindergartenangelegenheiten:&nbsp;Benutzungsgebühren für die städtischen Kindertageseinrichtungen<br />hier: Einführung eines Gebührensatzes für eine Ganztagesbetreuung von 9 Stunden <br /><br />6. Schlussbericht und Bericht über die Prüfung des Jahresabschlusses 2023 des Rechnungsprüfungsamtes <br /><br />7. Feststellung Jahresabschluss 2023 Stadt Bad Rappenau <br /><br />8. Bauplatzvergabe der Restbauplätze<br />hier: Vergabe zum Festpreis</p>
<p>Bad Rappenau, den 14.04.2026</p>
<p>gez. Frei<br />Oberbürgermeister</p>   link:  https://badrappenau.de/stadtleben/veranstaltungen/2026-04-gemeinderatssitzung-8491
CLASS:PUBLIC
DTSTART:2026-04-23T18:00:00+0000
DTEND:2026-04-23T00:00:00+0000
DTSTAMP:2026-04-20T00:48:05+0000
END:VEVENT
END:VCALENDAR
</PRE>
