<PRE>
BEGIN:VCALENDARs
VERSION:2.0
PRODID:https://badrappenau.de/stadtleben/veranstaltungen/2026-04-maerchenspaziergang-8362
METHOD:PUBLISH
BEGIN:VEVENT
UID:
ORGANIZER;CN="":MAILTO:
LOCATION: Treffpunkt: Eingang Hotel Saline 1822
SUMMARY:Märchenspaziergang
DESCRIPTION:<p>Den Alltag hinter sich lassen und dabei die Märchen als Brücke zur Natur genießen. <br />Teilnahmebeitrag 7 Euro, mit Gästekarte 6 Euro.<br />Informationen unter 07268/359.</p>
<p><span style="text-decoration: underline;"><strong>Achtung: Treffpunkt gegenüberliegende Straßenseite beim RappSoDie</strong></span></p>   link:  https://badrappenau.de/stadtleben/veranstaltungen/2026-04-maerchenspaziergang-8362
CLASS:PUBLIC
DTSTART:2026-04-25T10:00:00+0000
DTEND:2026-04-25T12:00:00+0000
DTSTAMP:2026-04-25T14:30:33+0000
END:VEVENT
END:VCALENDAR
</PRE>
