<PRE>
BEGIN:VCALENDARs
VERSION:2.0
PRODID:https://badrappenau.de/stadtleben/veranstaltungen/2026-04-sitzung-des-technischen-ausschusses-8501
METHOD:PUBLISH
BEGIN:VEVENT
UID:
ORGANIZER;CN="":MAILTO:
LOCATION: Rathaus Bad Rappenau, Sitzungssaal
SUMMARY:Sitzung des Technischen Ausschusses
DESCRIPTION:<p>Tagesordnung</p>
<ol>
<li>Mitteilungen und Verschiedenes</li>
<li>Sachstandsbericht zu den aktuellen Baumaßnahmen im Hochbaumt</li>
<li>Sanierung des Kindergartens im Bornhäusserweg in Fürfeld<br />hier: Maßnahmenbeschluss</li>
</ol>
<p>Bad Rappenau, den 09.04.2026</p>
<p>gez. Winter<br />Stellvertreter des Oberbürgermeisters</p>   link:  https://badrappenau.de/stadtleben/veranstaltungen/2026-04-sitzung-des-technischen-ausschusses-8501
CLASS:PUBLIC
DTSTART:2026-04-20T17:00:00+0000
DTEND:2026-04-20T00:00:00+0000
DTSTAMP:2026-04-20T00:51:19+0000
END:VEVENT
END:VCALENDAR
</PRE>
