<PRE>
BEGIN:VCALENDARs
VERSION:2.0
PRODID:https://badrappenau.de/stadtleben/veranstaltungen/2026-04-spiritueller-abendspaziergang-8388
METHOD:PUBLISH
BEGIN:VEVENT
UID:
ORGANIZER;CN="":MAILTO:
LOCATION: Treffpunkt: Salinenklinik Eingang
SUMMARY:Spiritueller Abendspaziergang
DESCRIPTION:<p>Zum Ausklang der Woche oder zu Beginn des Wochenendes den Kopf frei bekommen. Innehalten an besonderen Plätzen und Orten und die Gedanken schweifen lassen ...&nbsp;ein Angebot der Kur-, Reha- und Klinikseelsorge Bad Rappenau.<br />Dauer ca. 1 Stunde, keine Anmeldung, keine Teilnahmegebühr.</p>
<p>&nbsp;</p>   link:  https://badrappenau.de/stadtleben/veranstaltungen/2026-04-spiritueller-abendspaziergang-8388
CLASS:PUBLIC
DTSTART:2026-04-24T18:45:00+0000
DTEND:2026-04-24T19:45:00+0000
DTSTAMP:2026-04-24T12:51:54+0000
END:VEVENT
END:VCALENDAR
</PRE>
